BEGIN:VCALENDAR
VERSION:2.0
PRODID:-//Tukios.com/
BEGIN:VEVENT
UID:02e30897-3cf1-4594-a74a-4c69accddb6d@www.snydergrandvalleymemorials.com
DTSTAMP:20260425T001732Z
DTSTART:20260502T200000Z
DTEND:20260502T210000Z
SUMMARY:Celebration of Life
DESCRIPTION:
URL:https://www.snydergrandvalleymemorials.com/obituaries/elaine-schrimsher
LOCATION: 1050 Yampa Ave,  Craig CO 81625
GEO:40.5237144;-107.5474851
END:VEVENT
END:VCALENDAR