BEGIN:VCALENDAR
VERSION:2.0
PRODID:-//Tukios.com/
BEGIN:VEVENT
UID:f537ca46-051f-4461-abae-c522c831442c@www.snydergrandvalleymemorials.com
DTSTAMP:20260420T004603Z
DTSTART:20260424T160000Z
DTEND:20260424T170000Z
SUMMARY:Memorial Service
DESCRIPTION:
URL:https://www.snydergrandvalleymemorials.com/obituaries/alana-foster
LOCATION: 1679 Pioneer Rd  Delta CO 81416
GEO:38.726002;-108.0497049
END:VEVENT
END:VCALENDAR